BEGIN:VCALENDAR
VERSION:2.0
PRODID:-//Bishop Monkton Parish Council//Meeting Calendar//EN
CALSCALE:GREGORIAN
METHOD:PUBLISH
BEGIN:VEVENT
UID:70839-20240724@bishopmonkton-pc.gov.uk
DTSTAMP:20260419T130410Z
DTSTART;VALUE=DATE:20240724
DTEND;VALUE=DATE:20240725
SUMMARY:Staffing Committee meeting &#8211\\; 24 July 2024
DESCRIPTION:Staffing Committee Meeting\nView details: https://bishopmonkton-pc.gov.uk/meetings/staffing-committee/
URL:https://bishopmonkton-pc.gov.uk/meetings/staffing-committee/
END:VEVENT
END:VCALENDAR
